BEGIN:VCALENDAR
VERSION:2.0
PRODID:hinto.net
X-PUBLISHED-TTL:P1W
BEGIN:VEVENT
UID:hinto.net-event_show-6898986
DTSTART:20260420T013500
SEQUENCE:0
CREATED:20260411T042924
LAST-MODIFIED:20260411T042924
TRANSP:OPAQUE
DTEND:20260420T022300
LOCATION:
SUMMARY:RTS 2: Mise au point
CLASS:PUBLIC
DESCRIPTION:
ORGANIZER:
DTSTAMP:20260421T034558
ATTACH:https://www.hinto.net/de/events/rts-2-mise-au-point-20-04-2026-0135-e2824384-20.html
END:VEVENT
END:VCALENDAR
