BEGIN:VCALENDAR
VERSION:2.0
PRODID:hinto.net
X-PUBLISHED-TTL:P1W
BEGIN:VEVENT
UID:hinto.net-event_show-6913184
DTSTART:20260417T003500
SEQUENCE:0
CREATED:20260415T192523
LAST-MODIFIED:20260415T192523
TRANSP:OPAQUE
DTEND:20260417T005200
LOCATION:
SUMMARY:RTS 2: Couleurs locales
CLASS:PUBLIC
DESCRIPTION:
ORGANIZER:
DTSTAMP:20260419T235956
ATTACH:https://www.hinto.net/de/events/rts-2-couleurs-locales-17-04-2026-0035-e2836842-20.html
END:VEVENT
END:VCALENDAR
