BEGIN:VCALENDAR
VERSION:2.0
PRODID:hinto.net
X-PUBLISHED-TTL:P1W
BEGIN:VEVENT
UID:hinto.net-event_show-6925750
DTSTART:20260419T045000
SEQUENCE:0
CREATED:20260419T150602
LAST-MODIFIED:20260419T150602
TRANSP:OPAQUE
DTEND:20260419T052414
LOCATION:
SUMMARY:RTS 2: 19h30 - Signé
CLASS:PUBLIC
DESCRIPTION:
ORGANIZER:
DTSTAMP:20260420T073224
ATTACH:https://www.hinto.net/de/events/rts-2-19h30-signe-19-04-2026-0450-e2847690-20.html
END:VEVENT
END:VCALENDAR
