BEGIN:VCALENDAR
VERSION:2.0
PRODID:hinto.net
X-PUBLISHED-TTL:P1W
BEGIN:VEVENT
UID:hinto.net-event_show-6919317
DTSTART:20260419T044800
SEQUENCE:0
CREATED:20260419T145939
LAST-MODIFIED:20260419T145939
TRANSP:OPAQUE
DTEND:20260419T052729
LOCATION:
SUMMARY:RTS 1: Cash
CLASS:PUBLIC
DESCRIPTION:
ORGANIZER:
DTSTAMP:20260420T023102
ATTACH:https://www.hinto.net/de/events/rts-1-cash-19-04-2026-0448-e2842274-20.html
END:VEVENT
END:VCALENDAR
