BEGIN:VCALENDAR
VERSION:2.0
PRODID:hinto.net
X-PUBLISHED-TTL:P1W
BEGIN:VEVENT
UID:hinto.net-event_show-6919314
DTSTART:20260419T033500
SEQUENCE:0
CREATED:20260417T041936
LAST-MODIFIED:20260417T041936
TRANSP:OPAQUE
DTEND:20260419T033630
LOCATION:
SUMMARY:RTS 1: Météo
CLASS:PUBLIC
DESCRIPTION:
ORGANIZER:
DTSTAMP:20260419T144346
ATTACH:https://www.hinto.net/de/events/rts-1-meteo-19-04-2026-0335-e2842271-20.html
END:VEVENT
END:VCALENDAR
