BEGIN:VCALENDAR
VERSION:2.0
PRODID:hinto.net
X-PUBLISHED-TTL:P1W
BEGIN:VEVENT
UID:hinto.net-event_show-6919316
DTSTART:20260419T040500
SEQUENCE:0
CREATED:20260417T041939
LAST-MODIFIED:20260417T041939
TRANSP:OPAQUE
DTEND:20260419T044429
LOCATION:
SUMMARY:RTS 1: Cash
CLASS:PUBLIC
DESCRIPTION:
ORGANIZER:
DTSTAMP:20260419T145842
ATTACH:https://www.hinto.net/de/events/rts-1-cash-19-04-2026-0405-e2842273-20.html
END:VEVENT
END:VCALENDAR
