BEGIN:VCALENDAR
VERSION:2.0
PRODID:hinto.net
X-PUBLISHED-TTL:P1W
BEGIN:VEVENT
UID:hinto.net-event_show-6872419
DTSTART:20260423T000000
SEQUENCE:0
CREATED:20260402T045407
LAST-MODIFIED:20260402T045407
TRANSP:OPAQUE
DTEND:20260423T002500
LOCATION:
SUMMARY:RTL: RTL Nachtjournal
CLASS:PUBLIC
DESCRIPTION:
ORGANIZER:
DTSTAMP:20260423T190443
ATTACH:https://www.hinto.net/de/events/rtl-rtl-nachtjournal-23-04-2026-0000-e2800823-20.html
END:VEVENT
END:VCALENDAR
