BEGIN:VCALENDAR
VERSION:2.0
PRODID:hinto.net
X-PUBLISHED-TTL:P1W
BEGIN:VEVENT
UID:hinto.net-event_show-6856592
DTSTART:20260417T180000
SEQUENCE:0
CREATED:20260327T232224
LAST-MODIFIED:20260327T232224
TRANSP:OPAQUE
DTEND:20260417T183000
LOCATION:
SUMMARY:RTL: Explosiv - Das Magazin
CLASS:PUBLIC
DESCRIPTION:
ORGANIZER:
DTSTAMP:20260420T082026
ATTACH:https://www.hinto.net/de/events/rtl-explosiv-das-magazin-17-04-2026-1800-e2787771-20.html
END:VEVENT
END:VCALENDAR
