BEGIN:VCALENDAR
VERSION:2.0
PRODID:hinto.net
X-PUBLISHED-TTL:P1W
BEGIN:VEVENT
UID:hinto.net-event_show-6888913
DTSTART:20260423T190000
SEQUENCE:0
CREATED:20260407T025307
LAST-MODIFIED:20260407T025307
TRANSP:OPAQUE

LOCATION:
SUMMARY:Rilke begegnen
CLASS:PUBLIC
DESCRIPTION:
ORGANIZER:
DTSTAMP:20260420T035216
ATTACH:https://www.hinto.net/de/events/rilke-begegnen-23-04-2026-1900-e2815320-20.html
END:VEVENT
END:VCALENDAR
