BEGIN:VCALENDAR
VERSION:2.0
PRODID:hinto.net
X-PUBLISHED-TTL:P1W
BEGIN:VEVENT
UID:hinto.net-event_show-6751967
DTSTART:20260508T193000
SEQUENCE:0
CREATED:20260226T052601
LAST-MODIFIED:20260226T052601
TRANSP:OPAQUE
DTEND:20260508T221500
LOCATION:Großes Haus
SUMMARY:Rigoletto
CLASS:PUBLIC
DESCRIPTION:
ORGANIZER:
DTSTAMP:20260420T100235
ATTACH:https://www.hinto.net/de/events/rigoletto-08-05-2026-1930-grosses-haus-freiburg-i-br--e2710250-20.html
END:VEVENT
END:VCALENDAR
