BEGIN:VCALENDAR
VERSION:2.0
PRODID:hinto.net
X-PUBLISHED-TTL:P1W
BEGIN:VEVENT
UID:hinto.net-event_show-6857880
DTSTART:20260417T180000
SEQUENCE:0
CREATED:20260328T043421
LAST-MODIFIED:20260328T043421
TRANSP:OPAQUE
DTEND:20260417T180600
LOCATION:
SUMMARY:Radio SRF Musikwelle: Nachrichten
CLASS:PUBLIC
DESCRIPTION:
ORGANIZER:
DTSTAMP:20260419T230102
ATTACH:https://www.hinto.net/de/events/radio-srf-musikwelle-nachrichten-17-04-2026-1800-e2789059-20.html
END:VEVENT
END:VCALENDAR
