BEGIN:VCALENDAR
VERSION:2.0
PRODID:hinto.net
X-PUBLISHED-TTL:P1W
BEGIN:VEVENT
UID:hinto.net-event_show-6863972
DTSTART:20260419T180000
SEQUENCE:0
CREATED:20260329T160120
LAST-MODIFIED:20260329T160120
TRANSP:OPAQUE
DTEND:20260419T180300
LOCATION:
SUMMARY:Radio SRF 3: Nachrichten
CLASS:PUBLIC
DESCRIPTION:
ORGANIZER:
DTSTAMP:20260420T092452
ATTACH:https://www.hinto.net/de/events/radio-srf-3-nachrichten-19-04-2026-1800-e2794588-20.html
END:VEVENT
END:VCALENDAR
