BEGIN:VCALENDAR
VERSION:2.0
PRODID:hinto.net
X-PUBLISHED-TTL:P1W
BEGIN:VEVENT
UID:hinto.net-event_show-6863921
DTSTART:20260419T200000
SEQUENCE:0
CREATED:20260329T160016
LAST-MODIFIED:20260329T160016
TRANSP:OPAQUE
DTEND:20260419T200300
LOCATION:
SUMMARY:Radio SRF 1: Nachrichten
CLASS:PUBLIC
DESCRIPTION:
ORGANIZER:
DTSTAMP:20260420T082110
ATTACH:https://www.hinto.net/de/events/radio-srf-1-nachrichten-19-04-2026-2000-e2794537-20.html
END:VEVENT
END:VCALENDAR
