BEGIN:VCALENDAR
VERSION:2.0
PRODID:hinto.net
X-PUBLISHED-TTL:P1W
BEGIN:VEVENT
UID:hinto.net-event_show-6867397
DTSTART:20260419T045500
SEQUENCE:0
CREATED:20260331T201753
LAST-MODIFIED:20260331T201753
TRANSP:OPAQUE
DTEND:20260419T052000
LOCATION:
SUMMARY:Puls 8: Schicksale - und plötzlich ist alles anders
CLASS:PUBLIC
DESCRIPTION:
ORGANIZER:
DTSTAMP:20260420T040215
ATTACH:https://www.hinto.net/de/events/puls-8-schicksale-und-ploetzlich-ist-alles-anders-19-04-2026-0455-e2797365-20.html
END:VEVENT
END:VCALENDAR
