BEGIN:VCALENDAR
VERSION:2.0
PRODID:hinto.net
X-PUBLISHED-TTL:P1W
BEGIN:VEVENT
UID:hinto.net-event_show-6878385
DTSTART:20260422T220500
SEQUENCE:0
CREATED:20260403T133706
LAST-MODIFIED:20260403T133706
TRANSP:OPAQUE
DTEND:20260423T001000
LOCATION:
SUMMARY:Puls 8: Norbit
CLASS:PUBLIC
DESCRIPTION:
ORGANIZER:
DTSTAMP:20260423T230647
ATTACH:https://www.hinto.net/de/events/puls-8-norbit-22-04-2026-2205-e2806291-20.html
END:VEVENT
END:VCALENDAR
