BEGIN:VCALENDAR
VERSION:2.0
PRODID:hinto.net
X-PUBLISHED-TTL:P1W
BEGIN:VEVENT
UID:hinto.net-event_show-6867476
DTSTART:20260419T132500
SEQUENCE:0
CREATED:20260331T202155
LAST-MODIFIED:20260331T202155
TRANSP:OPAQUE
DTEND:20260419T135500
LOCATION:
SUMMARY:Puls 8: Die Simpsons
CLASS:PUBLIC
DESCRIPTION:
ORGANIZER:
DTSTAMP:20260419T161357
ATTACH:https://www.hinto.net/de/events/puls-8-die-simpsons-19-04-2026-1325-e2797444-20.html
END:VEVENT
END:VCALENDAR
