BEGIN:VCALENDAR
VERSION:2.0
PRODID:hinto.net
X-PUBLISHED-TTL:P1W
BEGIN:VEVENT
UID:hinto.net-event_show-6926020
DTSTART:20260421T041000
SEQUENCE:0
CREATED:20260419T151431
LAST-MODIFIED:20260419T151431
TRANSP:OPAQUE
DTEND:20260421T043000
LOCATION:
SUMMARY:ProSieben: Die Simpsons
CLASS:PUBLIC
DESCRIPTION:
ORGANIZER:
DTSTAMP:20260420T090225
ATTACH:https://www.hinto.net/de/events/prosieben-die-simpsons-21-04-2026-0410-e2847960-20.html
END:VEVENT
END:VCALENDAR
