BEGIN:VCALENDAR
VERSION:2.0
PRODID:hinto.net
X-PUBLISHED-TTL:P1W
BEGIN:VEVENT
UID:hinto.net-event_show-6663771
DTSTART:20260513T203000
SEQUENCE:0
CREATED:20260128T032411
LAST-MODIFIED:20260128T032411
TRANSP:OPAQUE

LOCATION:Werk 1
SUMMARY:Private Blend
CLASS:PUBLIC
DESCRIPTION:
ORGANIZER:
DTSTAMP:20260419T222405
ATTACH:https://www.hinto.net/de/events/private-blend-13-05-2026-2030-werk-1-gossau-sg-e2634092-20.html
END:VEVENT
END:VCALENDAR
