BEGIN:VCALENDAR
VERSION:2.0
PRODID:hinto.net
X-PUBLISHED-TTL:P1W
BEGIN:VEVENT
UID:hinto.net-event_show-6862845
DTSTART:20260419T170000
SEQUENCE:0
CREATED:20260329T151101
LAST-MODIFIED:20260329T151101
TRANSP:OPAQUE
DTEND:20260419T170500
LOCATION:
SUMMARY:ORF 2: ZIB
CLASS:PUBLIC
DESCRIPTION:
ORGANIZER:
DTSTAMP:20260420T021046
ATTACH:https://www.hinto.net/de/events/orf-2-zib-19-04-2026-1700-e2793461-20.html
END:VEVENT
END:VCALENDAR
