BEGIN:VCALENDAR
VERSION:2.0
PRODID:hinto.net
X-PUBLISHED-TTL:P1W
BEGIN:VEVENT
UID:hinto.net-event_show-6862844
DTSTART:20260419T165500
SEQUENCE:0
CREATED:20260329T151100
LAST-MODIFIED:20260329T151100
TRANSP:OPAQUE
DTEND:20260419T170000
LOCATION:
SUMMARY:ORF 2: Was ich glaube
CLASS:PUBLIC
DESCRIPTION:
ORGANIZER:
DTSTAMP:20260419T185831
ATTACH:https://www.hinto.net/de/events/orf-2-was-ich-glaube-19-04-2026-1655-e2793460-20.html
END:VEVENT
END:VCALENDAR
