BEGIN:VCALENDAR
VERSION:2.0
PRODID:hinto.net
X-PUBLISHED-TTL:P1W
BEGIN:VEVENT
UID:hinto.net-event_show-6862818
DTSTART:20260419T200200
SEQUENCE:0
CREATED:20260329T151030
LAST-MODIFIED:20260329T151030
TRANSP:OPAQUE
DTEND:20260419T201500
LOCATION:
SUMMARY:ORF 1: ZIB Magazin Kino
CLASS:PUBLIC
DESCRIPTION:
ORGANIZER:
DTSTAMP:20260420T093602
ATTACH:https://www.hinto.net/de/events/orf-1-zib-magazin-kino-19-04-2026-2002-e2793434-20.html
END:VEVENT
END:VCALENDAR
