BEGIN:VCALENDAR
VERSION:2.0
PRODID:hinto.net
X-PUBLISHED-TTL:P1W
BEGIN:VEVENT
UID:hinto.net-event_show-6925219
DTSTART:20260510T110000
SEQUENCE:0
CREATED:20260419T052049
LAST-MODIFIED:20260419T052049
TRANSP:OPAQUE
DTEND:20260510T160000
LOCATION:ganz Liestal
SUMMARY:Offene Ateliers Liestal
CLASS:PUBLIC
DESCRIPTION:
ORGANIZER:
DTSTAMP:20260420T060810
ATTACH:https://www.hinto.net/de/events/offene-ateliers-liestal-10-05-2026-1100-ganz-liestal-liestal-e2847346-20.html
END:VEVENT
END:VCALENDAR
