BEGIN:VCALENDAR
VERSION:2.0
PRODID:hinto.net
X-PUBLISHED-TTL:P1W
BEGIN:VEVENT
UID:hinto.net-event_show-6863773
DTSTART:20260419T121000
SEQUENCE:0
CREATED:20260329T155823
LAST-MODIFIED:20260329T155823
TRANSP:OPAQUE
DTEND:20260419T130000
LOCATION:
SUMMARY:Nitro: Stargate Kommando SG-1
CLASS:PUBLIC
DESCRIPTION:
ORGANIZER:
DTSTAMP:20260419T161436
ATTACH:https://www.hinto.net/de/events/nitro-stargate-kommando-sg-1-19-04-2026-1210-e2794389-20.html
END:VEVENT
END:VCALENDAR
