BEGIN:VCALENDAR
VERSION:2.0
PRODID:hinto.net
X-PUBLISHED-TTL:P1W
BEGIN:VEVENT
UID:hinto.net-event_show-6860425
DTSTART:20260418T235500
SEQUENCE:0
CREATED:20260328T060935
LAST-MODIFIED:20260328T060935
TRANSP:OPAQUE
DTEND:20260419T004500
LOCATION:
SUMMARY:Nitro: First 48 - Am Tatort mit den US-Ermittlern
CLASS:PUBLIC
DESCRIPTION:
ORGANIZER:
DTSTAMP:20260419T204707
ATTACH:https://www.hinto.net/de/events/nitro-first-48-am-tatort-mit-den-us-ermittlern-18-04-2026-2355-e2791604-20.html
END:VEVENT
END:VCALENDAR
