BEGIN:VCALENDAR
VERSION:2.0
PRODID:hinto.net
X-PUBLISHED-TTL:P1W
BEGIN:VEVENT
UID:hinto.net-event_show-6863775
DTSTART:20260419T135000
SEQUENCE:0
CREATED:20260329T155825
LAST-MODIFIED:20260329T155825
TRANSP:OPAQUE
DTEND:20260419T145000
LOCATION:
SUMMARY:Nitro: Die Tuning Profis
CLASS:PUBLIC
DESCRIPTION:
ORGANIZER:
DTSTAMP:20260419T231642
ATTACH:https://www.hinto.net/de/events/nitro-die-tuning-profis-19-04-2026-1350-e2794391-20.html
END:VEVENT
END:VCALENDAR
