BEGIN:VCALENDAR
VERSION:2.0
PRODID:hinto.net
X-PUBLISHED-TTL:P1W
BEGIN:VEVENT
UID:hinto.net-event_show-6925983
DTSTART:20260419T162500
SEQUENCE:0
CREATED:20260419T151222
LAST-MODIFIED:20260419T151222
TRANSP:OPAQUE
DTEND:20260419T165000
LOCATION:
SUMMARY:Nickelodeon / CC: Wylde Pak
CLASS:PUBLIC
DESCRIPTION:
ORGANIZER:
DTSTAMP:20260419T190518
ATTACH:https://www.hinto.net/de/events/nickelodeon-cc-wylde-pak-19-04-2026-1625-e2847923-20.html
END:VEVENT
END:VCALENDAR
