BEGIN:VCALENDAR
VERSION:2.0
PRODID:hinto.net
X-PUBLISHED-TTL:P1W
BEGIN:VEVENT
UID:hinto.net-event_show-6925982
DTSTART:20260419T161000
SEQUENCE:0
CREATED:20260419T151221
LAST-MODIFIED:20260419T151221
TRANSP:OPAQUE
DTEND:20260419T162500
LOCATION:
SUMMARY:Nickelodeon / CC: Willkommen bei den Louds
CLASS:PUBLIC
DESCRIPTION:
ORGANIZER:
DTSTAMP:20260419T191557
ATTACH:https://www.hinto.net/de/events/nickelodeon-cc-willkommen-bei-den-louds-19-04-2026-1610-e2847922-20.html
END:VEVENT
END:VCALENDAR
