BEGIN:VCALENDAR
VERSION:2.0
PRODID:hinto.net
X-PUBLISHED-TTL:P1W
BEGIN:VEVENT
UID:hinto.net-event_show-6860474
DTSTART:20260419T030000
SEQUENCE:0
CREATED:20260328T061041
LAST-MODIFIED:20260328T061041
TRANSP:OPAQUE
DTEND:20260419T060000
LOCATION:
SUMMARY:Nickelodeon / CC: premiumshopping.tv
CLASS:PUBLIC
DESCRIPTION:
ORGANIZER:
DTSTAMP:20260419T195146
ATTACH:https://www.hinto.net/de/events/nickelodeon-cc-premiumshopping-tv-19-04-2026-0300-e2791653-20.html
END:VEVENT
END:VCALENDAR
