BEGIN:VCALENDAR
VERSION:2.0
PRODID:hinto.net
X-PUBLISHED-TTL:P1W
BEGIN:VEVENT
UID:hinto.net-event_show-6925147
DTSTART:20260521T100000
SEQUENCE:0
CREATED:20260419T051949
LAST-MODIFIED:20260419T051949
TRANSP:OPAQUE
DTEND:20260521T133000
LOCATION:Brache Lachen
SUMMARY:Mittagstisch
CLASS:PUBLIC
DESCRIPTION:
ORGANIZER:
DTSTAMP:20260419T225236
ATTACH:https://www.hinto.net/de/events/mittagstisch-21-05-2026-1000-brache-lachen-st-gallen-e2847287-20.html
END:VEVENT
END:VCALENDAR
