BEGIN:VCALENDAR
VERSION:2.0
PRODID:hinto.net
X-PUBLISHED-TTL:P1W
BEGIN:VEVENT
UID:hinto.net-event_show-6881671
DTSTART:20260423T012500
SEQUENCE:0
CREATED:20260422T175548
LAST-MODIFIED:20260422T175548
TRANSP:OPAQUE
DTEND:20260423T013700
LOCATION:
SUMMARY:La 2: Telesguard
CLASS:PUBLIC
DESCRIPTION:
ORGANIZER:
DTSTAMP:20260423T174326
ATTACH:https://www.hinto.net/de/events/la-2-telesguard-23-04-2026-0125-e2809389-20.html
END:VEVENT
END:VCALENDAR
