BEGIN:VCALENDAR
VERSION:2.0
PRODID:hinto.net
X-PUBLISHED-TTL:P1W
BEGIN:VEVENT
UID:hinto.net-event_show-6872183
DTSTART:20260422T225000
SEQUENCE:0
CREATED:20260422T173901
LAST-MODIFIED:20260422T173901
TRANSP:OPAQUE
DTEND:20260423T003131
LOCATION:
SUMMARY:La 1: The Iron Lady
CLASS:PUBLIC
DESCRIPTION:
ORGANIZER:
DTSTAMP:20260423T163655
ATTACH:https://www.hinto.net/de/events/la-1-the-iron-lady-22-04-2026-2250-e2800587-20.html
END:VEVENT
END:VCALENDAR
