BEGIN:VCALENDAR
VERSION:2.0
PRODID:hinto.net
X-PUBLISHED-TTL:P1W
BEGIN:VEVENT
UID:hinto.net-event_show-6862687
DTSTART:20260419T123000
SEQUENCE:0
CREATED:20260418T064744
LAST-MODIFIED:20260418T064744
TRANSP:OPAQUE
DTEND:20260419T124301
LOCATION:
SUMMARY:La 1: Telegiornale
CLASS:PUBLIC
DESCRIPTION:
ORGANIZER:
DTSTAMP:20260419T174004
ATTACH:https://www.hinto.net/de/events/la-1-telegiornale-19-04-2026-1230-e2793303-20.html
END:VEVENT
END:VCALENDAR
