BEGIN:VCALENDAR
VERSION:2.0
PRODID:hinto.net
X-PUBLISHED-TTL:P1W
BEGIN:VEVENT
UID:hinto.net-event_show-6931099
DTSTART:20260423T020000
SEQUENCE:0
CREATED:20260422T183612
LAST-MODIFIED:20260422T183612
TRANSP:OPAQUE
DTEND:20260423T025300
LOCATION:
SUMMARY:La 1: Prima Ora (R)
CLASS:PUBLIC
DESCRIPTION:
ORGANIZER:
DTSTAMP:20260423T190305
ATTACH:https://www.hinto.net/de/events/la-1-prima-ora-(r)-23-04-2026-0200-e2852404-20.html
END:VEVENT
END:VCALENDAR
