BEGIN:VCALENDAR
VERSION:2.0
PRODID:hinto.net
X-PUBLISHED-TTL:P1W
BEGIN:VEVENT
UID:hinto.net-event_show-6872518
DTSTART:20260422T210000
SEQUENCE:0
CREATED:20260402T045854
LAST-MODIFIED:20260402T045854
TRANSP:OPAQUE
DTEND:20260423T060000
LOCATION:
SUMMARY:KiKa: Sendepause
CLASS:PUBLIC
DESCRIPTION:
ORGANIZER:
DTSTAMP:20260423T173724
ATTACH:https://www.hinto.net/de/events/kika-sendepause-22-04-2026-2100-e2800922-20.html
END:VEVENT
END:VCALENDAR
