BEGIN:VCALENDAR
VERSION:2.0
PRODID:hinto.net
X-PUBLISHED-TTL:P1W
BEGIN:VEVENT
UID:hinto.net-event_show-6859571
DTSTART:20260418T210000
SEQUENCE:0
CREATED:20260328T054750
LAST-MODIFIED:20260328T054750
TRANSP:OPAQUE
DTEND:20260419T060000
LOCATION:
SUMMARY:KiKa: Sendepause
CLASS:PUBLIC
DESCRIPTION:
ORGANIZER:
DTSTAMP:20260419T161112
ATTACH:https://www.hinto.net/de/events/kika-sendepause-18-04-2026-2100-e2790750-20.html
END:VEVENT
END:VCALENDAR
