BEGIN:VCALENDAR
VERSION:2.0
PRODID:hinto.net
X-PUBLISHED-TTL:P1W
BEGIN:VEVENT
UID:hinto.net-event_show-6862986
DTSTART:20260419T163500
SEQUENCE:0
CREATED:20260329T152021
LAST-MODIFIED:20260329T152021
TRANSP:OPAQUE
DTEND:20260419T170000
LOCATION:
SUMMARY:KiKa: Anna und die wilden Tiere
CLASS:PUBLIC
DESCRIPTION:
ORGANIZER:
DTSTAMP:20260420T040412
ATTACH:https://www.hinto.net/de/events/kika-anna-und-die-wilden-tiere-19-04-2026-1635-e2793602-20.html
END:VEVENT
END:VCALENDAR
