BEGIN:VCALENDAR
VERSION:2.0
PRODID:hinto.net
X-PUBLISHED-TTL:P1W
BEGIN:VEVENT
UID:hinto.net-event_show-6878359
DTSTART:20260422T224000
SEQUENCE:0
CREATED:20260422T175314
LAST-MODIFIED:20260422T175314
TRANSP:OPAQUE
DTEND:20260423T005000
LOCATION:
SUMMARY:Kabel Eins: Green Zone
CLASS:PUBLIC
DESCRIPTION:
ORGANIZER:
DTSTAMP:20260423T190419
ATTACH:https://www.hinto.net/de/events/kabel-eins-green-zone-22-04-2026-2240-e2806265-20.html
END:VEVENT
END:VCALENDAR
