BEGIN:VCALENDAR
VERSION:2.0
PRODID:hinto.net
X-PUBLISHED-TTL:P1W
BEGIN:VEVENT
UID:hinto.net-event_show-6929944
DTSTART:20260429T193000
SEQUENCE:0
CREATED:20260420T222314
LAST-MODIFIED:20260420T222314
TRANSP:OPAQUE

LOCATION:
SUMMARY:Fully, où sont tes usines ?
CLASS:PUBLIC
DESCRIPTION:
ORGANIZER:
DTSTAMP:20260423T154748
ATTACH:https://www.hinto.net/de/events/fully-ou-sont-tes-usines-29-04-2026-1930-e2851798-20.html
END:VEVENT
END:VCALENDAR
