BEGIN:VCALENDAR
VERSION:2.0
PRODID:hinto.net
X-PUBLISHED-TTL:P1W
BEGIN:VEVENT
UID:hinto.net-event_show-6653955
DTSTART:20260621T130000
SEQUENCE:0
CREATED:20260124T074449
LAST-MODIFIED:20260124T074449
TRANSP:OPAQUE
DTEND:20260621T140000
LOCATION:Schloss Wildegg
SUMMARY:Führung durch den Barockgarten
CLASS:PUBLIC
DESCRIPTION:
ORGANIZER:
DTSTAMP:20260419T224627
ATTACH:https://www.hinto.net/de/events/fuehrung-durch-den-barockgarten-21-06-2026-1300-schloss-wildegg-wildegg-e2624885-20.html
END:VEVENT
END:VCALENDAR
