BEGIN:VCALENDAR
VERSION:2.0
PRODID:hinto.net
X-PUBLISHED-TTL:P1W
BEGIN:VEVENT
UID:hinto.net-event_show-6924958
DTSTART:20260523T180000
SEQUENCE:0
CREATED:20260419T051937
LAST-MODIFIED:20260419T051937
TRANSP:OPAQUE

LOCATION:Konzertmuschel Stadtgarten
SUMMARY:Flowza
CLASS:PUBLIC
DESCRIPTION:
ORGANIZER:
DTSTAMP:20260420T045238
ATTACH:https://www.hinto.net/de/events/flowza-23-05-2026-1800-konzertmuschel-stadtgarten-konstanz-e2847243-20.html
END:VEVENT
END:VCALENDAR
