BEGIN:VCALENDAR
VERSION:2.0
PRODID:hinto.net
X-PUBLISHED-TTL:P1W
BEGIN:VEVENT
UID:hinto.net-event_show-6921934
DTSTART:20260520T200000
SEQUENCE:0
CREATED:20260417T071701
LAST-MODIFIED:20260417T071701
TRANSP:OPAQUE

LOCATION:
SUMMARY:Fliegende Gärten
CLASS:PUBLIC
DESCRIPTION:
ORGANIZER:
DTSTAMP:20260419T144532
ATTACH:https://www.hinto.net/de/events/fliegende-gaerten-20-05-2026-2000-e2844702-20.html
END:VEVENT
END:VCALENDAR
