BEGIN:VCALENDAR
VERSION:2.0
PRODID:hinto.net
X-PUBLISHED-TTL:P1W
BEGIN:VEVENT
UID:hinto.net-event_show-6723630
DTSTART:20260417T203000
SEQUENCE:0
CREATED:20260217T041849
LAST-MODIFIED:20260217T041849
TRANSP:OPAQUE

LOCATION:Jazztone
SUMMARY:Fernando Brox Quintet
CLASS:PUBLIC
DESCRIPTION:
ORGANIZER:
DTSTAMP:20260420T053144
ATTACH:https://www.hinto.net/de/events/fernando-brox-quintet-17-04-2026-2030-jazztone-loerrach-e2686920-20.html
END:VEVENT
END:VCALENDAR
