BEGIN:VCALENDAR
VERSION:2.0
PRODID:hinto.net
X-PUBLISHED-TTL:P1W
BEGIN:VEVENT
UID:hinto.net-event_show-6860402
DTSTART:20260418T231500
SEQUENCE:0
CREATED:20260328T060918
LAST-MODIFIED:20260328T060918
TRANSP:OPAQUE
DTEND:20260419T002000
LOCATION:
SUMMARY:DMAX: Ozark Police Patrol - Einsatz im Paradies
CLASS:PUBLIC
DESCRIPTION:
ORGANIZER:
DTSTAMP:20260419T223437
ATTACH:https://www.hinto.net/de/events/dmax-ozark-police-patrol-einsatz-im-paradies-18-04-2026-2315-e2791581-20.html
END:VEVENT
END:VCALENDAR
