BEGIN:VCALENDAR
VERSION:2.0
PRODID:hinto.net
X-PUBLISHED-TTL:P1W
BEGIN:VEVENT
UID:hinto.net-event_show-6873315
DTSTART:20260423T021500
SEQUENCE:0
CREATED:20260402T052352
LAST-MODIFIED:20260402T052352
TRANSP:OPAQUE
DTEND:20260423T033000
LOCATION:
SUMMARY:BR: Wir in Bayern
CLASS:PUBLIC
DESCRIPTION:
ORGANIZER:
DTSTAMP:20260423T191104
ATTACH:https://www.hinto.net/de/events/br-wir-in-bayern-23-04-2026-0215-e2801719-20.html
END:VEVENT
END:VCALENDAR
