BEGIN:VCALENDAR
VERSION:2.0
PRODID:hinto.net
X-PUBLISHED-TTL:P1W
BEGIN:VEVENT
UID:hinto.net-event_show-6863702
DTSTART:20260419T144500
SEQUENCE:0
CREATED:20260329T155659
LAST-MODIFIED:20260329T155659
TRANSP:OPAQUE
DTEND:20260419T153000
LOCATION:
SUMMARY:BR: Der Winzerkönig
CLASS:PUBLIC
DESCRIPTION:
ORGANIZER:
DTSTAMP:20260420T072537
ATTACH:https://www.hinto.net/de/events/br-der-winzerkoenig-19-04-2026-1445-e2794318-20.html
END:VEVENT
END:VCALENDAR
