BEGIN:VCALENDAR
VERSION:2.0
PRODID:hinto.net
X-PUBLISHED-TTL:P1W
BEGIN:VEVENT
UID:hinto.net-event_show-6873308
DTSTART:20260422T193000
SEQUENCE:0
CREATED:20260402T052347
LAST-MODIFIED:20260402T052347
TRANSP:OPAQUE
DTEND:20260422T200000
LOCATION:
SUMMARY:BR: Dahoam is Dahoam
CLASS:PUBLIC
DESCRIPTION:
ORGANIZER:
DTSTAMP:20260419T221108
ATTACH:https://www.hinto.net/de/events/br-dahoam-is-dahoam-22-04-2026-1930-e2801712-20.html
END:VEVENT
END:VCALENDAR
