BEGIN:VCALENDAR
VERSION:2.0
PRODID:hinto.net
X-PUBLISHED-TTL:P1W
BEGIN:VEVENT
UID:hinto.net-event_show-6866338
DTSTART:20260420T060000
SEQUENCE:0
CREATED:20260330T183437
LAST-MODIFIED:20260330T183437
TRANSP:OPAQUE
DTEND:20260420T063000
LOCATION:
SUMMARY:BR: Bergauf-Bergab
CLASS:PUBLIC
DESCRIPTION:
ORGANIZER:
DTSTAMP:20260419T144533
ATTACH:https://www.hinto.net/de/events/br-bergauf-bergab-20-04-2026-0600-e2796557-20.html
END:VEVENT
END:VCALENDAR
