BEGIN:VCALENDAR
VERSION:2.0
PRODID:hinto.net
X-PUBLISHED-TTL:P1W
BEGIN:VEVENT
UID:hinto.net-event_show-6863709
DTSTART:20260419T184500
SEQUENCE:0
CREATED:20260329T155704
LAST-MODIFIED:20260329T155704
TRANSP:OPAQUE
DTEND:20260419T191500
LOCATION:
SUMMARY:BR: Bergauf-Bergab
CLASS:PUBLIC
DESCRIPTION:
ORGANIZER:
DTSTAMP:20260419T144534
ATTACH:https://www.hinto.net/de/events/br-bergauf-bergab-19-04-2026-1845-e2794325-20.html
END:VEVENT
END:VCALENDAR
