BEGIN:VCALENDAR
VERSION:2.0
PRODID:hinto.net
X-PUBLISHED-TTL:P1W
BEGIN:VEVENT
UID:hinto.net-event_show-6908823
DTSTART:20260504T060000
SEQUENCE:0
CREATED:20260413T171117
LAST-MODIFIED:20260413T171117
TRANSP:OPAQUE
DTEND:20260504T063000
LOCATION:
SUMMARY:BR: Bergauf-Bergab
CLASS:PUBLIC
DESCRIPTION:
ORGANIZER:
DTSTAMP:20260419T144530
ATTACH:https://www.hinto.net/de/events/br-bergauf-bergab-04-05-2026-0600-e2833670-20.html
END:VEVENT
END:VCALENDAR
