BEGIN:VCALENDAR
VERSION:2.0
PRODID:hinto.net
X-PUBLISHED-TTL:P1W
BEGIN:VEVENT
UID:hinto.net-event_show-6862951
DTSTART:20260419T134000
SEQUENCE:0
CREATED:20260329T151658
LAST-MODIFIED:20260329T151658
TRANSP:OPAQUE
DTEND:20260419T164500
LOCATION:
SUMMARY:Arte: Spartacus
CLASS:PUBLIC
DESCRIPTION:
ORGANIZER:
DTSTAMP:20260419T185855
ATTACH:https://www.hinto.net/de/events/arte-spartacus-19-04-2026-1340-e2793567-20.html
END:VEVENT
END:VCALENDAR
